BEGIN:VCALENDAR
VERSION:2.0
PRODID:-//Trilith Institute - ECPv6.14.1//NONSGML v1.0//EN
CALSCALE:GREGORIAN
METHOD:PUBLISH
X-ORIGINAL-URL:https://backup.trilithinstitute.org
X-WR-CALDESC:Events for Trilith Institute
REFRESH-INTERVAL;VALUE=DURATION:PT1H
X-Robots-Tag:noindex
X-PUBLISHED-TTL:PT1H
BEGIN:VTIMEZONE
TZID:America/New_York
BEGIN:DAYLIGHT
TZOFFSETFROM:-0500
TZOFFSETTO:-0400
TZNAME:EDT
DTSTART:20250309T070000
END:DAYLIGHT
BEGIN:STANDARD
TZOFFSETFROM:-0400
TZOFFSETTO:-0500
TZNAME:EST
DTSTART:20251102T060000
END:STANDARD
END:VTIMEZONE
BEGIN:VEVENT
DTSTART;VALUE=DATE:20251013
DTEND;VALUE=DATE:20251111
DTSTAMP:20260425T161844
CREATED:20250407T091514Z
LAST-MODIFIED:20250704T063533Z
UID:4952-1760313600-1762819199@backup.trilithinstitute.org
SUMMARY:Sketch Comedy Writing I with Dad's Garage
DESCRIPTION:Unlock your creativity\, hone your comedic instincts\, and dive into the world of sketch comedy with this exciting and dynamic course offered in collaboration with Dad’s Garage Theatre. Whether you are an aspiring comedian or just looking to have a blast while learning acting or screenwriting\, this class will take you on a journey through the art of improvisation and sketch comedy development. Dad’s Garage\, a renowned comedy institution\, brings its expertise to your fingertips in this hands-on\, laughter-filled experience. Students will participate in weekly group writing sessions outside of class to further develop the skill of pitching ideas\, how to give and take critical feedback\, and how to work with others in a writing room scenario. Students create their very own scripts that can be recorded at the end of the course. \nPlease note\, students do have graded assignments\, assessments\, and projects and will receive a final grade in this course. Grades demonstrate a student’s ability to apply their understanding and mastery of concepts taught in this course. Trilith Institute instructors have a wealth of knowledge as they come with expertise in the film and entertainment industry \nCourse Note: No Prerequisite Required. \nWHAT YOU WILL WALK AWAY WITH\n\nSketch materials for your own reel.\nThe opportunity to present your work at the Trilith Institute Professional Education Student Showcase.\nEligibility to apply for Trilith Institute’s Creative Excellence Fellowship Grant.*\n15% off Trilith Institute workshops for 6 months after course enrollment.\nA tour of Trilith Studios!
URL:https://backup.trilithinstitute.org/event/sketch-comedy-fall2025/
LOCATION:Trilith Studios Production Centre\, 461 Sandy Creek Rd\, Fayetteville\, GA\, 30214\, United States
CATEGORIES:5 Week Course,Adult Course,Fall 2025,In Person,Professional Education
END:VEVENT
END:VCALENDAR