BEGIN:VCALENDAR
VERSION:2.0
PRODID:-//Trilith Institute - ECPv6.14.1//NONSGML v1.0//EN
CALSCALE:GREGORIAN
METHOD:PUBLISH
X-WR-CALNAME:Trilith Institute
X-ORIGINAL-URL:https://backup.trilithinstitute.org
X-WR-CALDESC:Events for Trilith Institute
REFRESH-INTERVAL;VALUE=DURATION:PT1H
X-Robots-Tag:noindex
X-PUBLISHED-TTL:PT1H
BEGIN:VTIMEZONE
TZID:America/New_York
BEGIN:DAYLIGHT
TZOFFSETFROM:-0500
TZOFFSETTO:-0400
TZNAME:EDT
DTSTART:20250309T070000
END:DAYLIGHT
BEGIN:STANDARD
TZOFFSETFROM:-0400
TZOFFSETTO:-0500
TZNAME:EST
DTSTART:20251102T060000
END:STANDARD
END:VTIMEZONE
BEGIN:VEVENT
DTSTART;VALUE=DATE:20251001
DTEND;VALUE=DATE:20251120
DTSTAMP:20260425T161841
CREATED:20250704T063028Z
LAST-MODIFIED:20250704T094619Z
UID:5721-1759276800-1763596799@backup.trilithinstitute.org
SUMMARY:Foundations of Script Supervision (VIRTUAL)
DESCRIPTION:This intensive 8-week course offers a deep dive into the art and craft of script supervising\, equipping you with the theory and hands-on skills needed to keep a film or television production running smoothly from page to screen. Beginning with a script breakdown in pre-production\, you’ll learn to identify continuity challenges\, annotate shooting scripts and storyboards\, and develop the detailed reports that guide cast\, crew\, and editors through every scene. \nThrough a balanced mix of lectures\, film-clip analysis\, and practical exercises\, you’ll master on-set best practices—covering actor blocking\, camera setups\, wardrobe changes\, props tracking\, and coverage logging—while honing your ability to anticipate and solve problems before they disrupt the shoot. By the end\, you’ll know how the script supervisor acts as the director’s right hand\, the editor’s best friend\, and the production’s continuity guardian\, transforming potential chaos into seamless cinematic storytelling. \nThroughout this course\, you will: \n\nDevelop a meticulous eye for detail\, learning to track and maintain continuity across dialogue\, action\, wardrobe\, props\, and more.\nMaster industry-standard paperwork and digital tools\, including creating lined scripts\, daily progress reports\, and editor’s logs. You’ll gain hands-on experience with both traditional methods and modern software applications used on sets today.\nLearn the art of script breakdown\, timing scripts\, and preparing for production with professional techniques.\nUnderstand the dynamics of on-set collaboration\, effectively communicating with the director\, director of photography\, and other key department heads to protect the integrity of the final cut.\nAnalyze film clips and engage in practical\, hands-on exercises that simulate real-world production scenarios\, ensuring you are prepared for the challenges of a live set.\n\nWHAT YOU WILL WALK AWAY WITH \nUpon successful completion of this course\, you will leave with: \n\nProficiency in Essential Paperwork: The ability to accurately and efficiently create all necessary reports\, from the Editor’s Log to the Daily Production Report\, that form the bible of the production.\nThe Confidence to Step on Set: A thorough understanding of on-set etiquette\, protocols\, and the script supervisor’s unique relationship with the cast and crew\, empowering you to perform your duties with professionalism.\nOn-the-Fly Problem-Solving Skills: The ability to identify continuity errors as they happen and communicate solutions effectively and diplomatically on a busy set.\nA Deep Understanding of Cinematic Grammar: A full comprehension of the 180-degree rule\, screen direction\, and matching eyelines\, ensuring all footage can be seamlessly edited together.\nThe Ability to Time a Script: A core\, practical skill to provide accurate scene and script timings for production scheduling\, which is invaluable to assistant directors and producers.
URL:https://backup.trilithinstitute.org/event/foundations-of-script-supervision/
LOCATION:Virtual
CATEGORIES:8 Week Course,Adult Course,Fall 2025,Professional Education,Virtual
END:VEVENT
BEGIN:VEVENT
DTSTART;VALUE=DATE:20250811
DTEND;VALUE=DATE:20251007
DTSTAMP:20260425T161841
CREATED:20250704T045720Z
LAST-MODIFIED:20250704T084218Z
UID:5695-1754870400-1759795199@backup.trilithinstitute.org
SUMMARY:Essentials of Video Game Design with Misfit Adventure
DESCRIPTION:This 8-week course will cover the fundamentals of adapting students’ own stories into video games. Students can expect to learn character creation\, storytelling\, dialogue\, animation\, and combat encounters. This will be accomplished by adapting tabletop RPG (role-playing game) rules into their game and translating them into RPG Maker MZ. This course takes students beyond a YouTube tutorial and will have them to create their own adventures. Students will cover all aspects of game mechanics and how to adapt them into their game while guiding them through their own stories. Students won’t just design a game; they will get to design *their* game. \nAll students will receive the current version of Misfit Adventure’s Game Master Guide\, Monster Manual\, and Video Game Conversion Guide. \nIn addition to the course instruction on Mondays\, there is a weekly lab to deepen the learning and hands-on experience on Thursday evenings. \nPlease note\, students do have graded assignments\, assessments\, and projects and will receive a final grade in this course. Grades demonstrate a student’s ability to apply their understanding and mastery of concepts taught in this course. Trilith Institute instructors have a wealth of knowledge as they come with expertise in the film and entertainment industry \nCourse Note: No Prerequisite Required. \nWHAT WILL YOU WALK AWAY WITH\n\nA comprehensive understanding of the skills needed to create your video game and incorporate RPG rules.\nEligibility to apply for Trilith Institute’s Creative Excellence Fellowship Grant.*\n15% off Trilith Institute workshops for 6 months after course enrollment.\nA tour of Trilith Studios!
URL:https://backup.trilithinstitute.org/event/essentials-of-video-game-design-with-misfit-adventure-fall2025/
LOCATION:Trilith Studios Production Centre\, 461 Sandy Creek Rd\, Fayetteville\, GA\, 30214\, United States
CATEGORIES:8 Week Course,Adult Course,Fall 2025,In Person,Professional Education
END:VEVENT
END:VCALENDAR